BEGIN:VCALENDAR
VERSION:2.0
PRODID:-//Axe &amp; Sens - ECPv6.8.1//NONSGML v1.0//EN
CALSCALE:GREGORIAN
METHOD:PUBLISH
X-WR-CALNAME:Axe &amp; Sens
X-ORIGINAL-URL:https://www.axe-sens.org
X-WR-CALDESC:Évènements pour Axe &amp; Sens
REFRESH-INTERVAL;VALUE=DURATION:PT1H
X-Robots-Tag:noindex
X-PUBLISHED-TTL:PT1H
BEGIN:VTIMEZONE
TZID:Europe/Paris
BEGIN:DAYLIGHT
TZOFFSETFROM:+0100
TZOFFSETTO:+0200
TZNAME:CEST
DTSTART:20250330T010000
END:DAYLIGHT
BEGIN:STANDARD
TZOFFSETFROM:+0200
TZOFFSETTO:+0100
TZNAME:CET
DTSTART:20251026T010000
END:STANDARD
END:VTIMEZONE
BEGIN:VEVENT
DTSTART;TZID=Europe/Paris:20250621T100000
DTEND;TZID=Europe/Paris:20250622T173000
DTSTAMP:20260421T231220
CREATED:20250519T103829Z
LAST-MODIFIED:20250519T103931Z
UID:10000649-1750500000-1750613400@www.axe-sens.org
SUMMARY:Venez réveiller le "chaman" qui sommeille en vous
DESCRIPTION:Initiation le WE du 21 et 22 juin 2025\nAvec Eléonora \nMarseille \n  \nWE de travail en petit groupe : \nEn ce Solstice d’ETE – Cérémonie de purification pour soi\, pour la Terre et le Vivant. \nPuis au cours du WE nous travaillerons à retrouver ces outils fondamentaux qui changent la vie du quotidien\, ouvrent la conscience sur le monde du ” vivant” dans toute sa complétude\, et redonnent foi en sa reliance au Grand Tout. \nEléonora vous propose lors de ce programme riche\, de vous accompagner dans une ouverture nouvelle à vous même et au monde. Elle vous transmettra des outils fondamentaux pour aborder la vie avec plus de force et de détermination. \n-Pratiques ancestrales\, nettoyages subtils\, cérémonies sacrées\, connexions aux éléments\, Travail au tambour\, méditations guidées\,  marches conscientes\, reliance aux différents règnes … \nVous sortirez de ce WE bien différents\, grandis avec de nouveaux ” possibles ” dans votre besace\, plus accordés au monde et aux fluctuations actuelles de notre belle planète. \nProgramme détaillé sur demande. \nTarif : 180 € le WE \nRepas partagés \nInfos : 06 16 57 61 99 \n  \n  \n  \n 
URL:https://www.axe-sens.org/rendez-vous/venez-reveiller-le-chaman-qui-sommeille-en-vous
LOCATION:Domaine de Terre Sainte\, 46 Bvd Notre dame de Santa Cruz\, Marseille\, 13014\, France
CATEGORIES:Alchimie,Art,Ceremonie sacrée,Chaman,Chamanisme
ATTACH;FMTTYPE=image/jpeg:https://www.axe-sens.org/wp-content/uploads/2025/05/Chaman.jpeg
ORGANIZER;CN="El%C3%A9onora":MAILTO:aurorakumaran@gmail.com
END:VEVENT
END:VCALENDAR