BEGIN:VCALENDAR
VERSION:2.0
PRODID:-//Axe &amp; Sens - ECPv6.8.1//NONSGML v1.0//EN
CALSCALE:GREGORIAN
METHOD:PUBLISH
X-ORIGINAL-URL:https://www.axe-sens.org
X-WR-CALDESC:Évènements pour Axe &amp; Sens
REFRESH-INTERVAL;VALUE=DURATION:PT1H
X-Robots-Tag:noindex
X-PUBLISHED-TTL:PT1H
BEGIN:VTIMEZONE
TZID:Europe/Paris
BEGIN:DAYLIGHT
TZOFFSETFROM:+0100
TZOFFSETTO:+0200
TZNAME:CEST
DTSTART:20240331T010000
END:DAYLIGHT
BEGIN:STANDARD
TZOFFSETFROM:+0200
TZOFFSETTO:+0100
TZNAME:CET
DTSTART:20241027T010000
END:STANDARD
END:VTIMEZONE
BEGIN:VEVENT
DTSTART;TZID=Europe/Paris:20240818T200000
DTEND;TZID=Europe/Paris:20240818T220000
DTSTAMP:20260423T082804
CREATED:20240813T175254Z
LAST-MODIFIED:20240814T111237Z
UID:10000634-1724011200-1724018400@www.axe-sens.org
SUMMARY:Méditation de pleine lune "online" Août 2024
DESCRIPTION:Eléonora vous accueille le 18 août à 20h sur WhatsApp pour cette méditation “online” dans l’énergie de la lune montante. \nLe 19 août 2024\, le ciel nocturne sera le théâtre d’un spectacle astronomique particulièrement rare : une superlune coïncidant avec une lune bleue. Cet événement marquera le phénomène durant lequel la pleine lune est au plus proche de la Terre sur son orbite. Elle se situera dans le signe indépendant\, original et émotif du Verseau. Ce signe d’air aura donc une influence sur l’ensemble du zodiaque pendant cette période. \nLes perturbations liées à Uranus peuvent générer des conflits internes\, des excès de violence\, aussi bien sur le plan personnel que sur le plan des communautés ou des nations. Certains pourraient voir leurs plans archaïques changer brutalement à la dernière minute\, ou vivre des revirements de situations\, ressentir davantage certaines émotions enfouies depuis le début de l’été. \nLe verseau vit ses émotions à 100%. Il dit ce qu’il pense et n’hésite pas à prendre des décisions. Sa fougue pourrait venir jouer sur le quotidien paisible de certains signes. \nCertains auront envie de montrer leurs couleurs\, d’affirmer leurs opinions\, d’autres encore de mettre fin à des liens ou des relations qui les empêchent d’avancer. Cette lune peut apporter des secousses internes\, des remises en question profondes\, au point de déséquilibrer nos énergies vitales.\nC’est l’heure des changements majeurs. Notre corps lui aussi sera mis à l’épreuve. \nLe soleil traverse le signe du Lion. Ce moment permet d’enclencher de nouveaux projets\, de nouvelles opportunités et  la chance si on y arrive\, de sortir des vieux schémas d’enfermement liés à l’Ego. \nL’ego ( représenté par le lion ) doit maintenant s’accorder. Il s’agit d’une période propice à l’évolution de nos relations humaines. En même temps\, Pluton nous demande d’abandonner et de sacrifier certains aspects de nos vies pour enclancher un nouveau cycle. \nLors de cette méditation\, Eléonora vous emmènera dans un travail intime et profond de décharge des émotions refoulées\, de lâcher prise\, pour un renouveau puissant. Il s’agit d’aborder cette rentrée\, neufs et vivifiés. \nQu’est ce qui peut encore entraver notre bien être et notre harmonie générale. Certains pourront ressentir de grandes tensions. Des  blocages profonds et anciens remontent à la surface.\nIl faut faire attention à l’éparpillement et freiner ici les ardeurs et les pulsions destructrices encore présentes. \nCette méditation démarrera à 20h heure de France. Merci de vous préparer dès 19h30 pour les tests techniques \nVotre inscription sera validée dès votre règlement effectué par PayPal ou Lydia et votre confirmation de paiement envoyée par texto ou WhatsApp au 00 33 6 16 57 61 99 \nIl ne vous restera plus qu’à vous installer confortablement pour ce voyage. Pour ceux qui le souhaitent vous pouvez prévoir une enceinte ou un casque pour optimiser le son. \nAu plaisir de vous retrouver. \nTarif : 20 €
URL:https://www.axe-sens.org/rendez-vous/meditation-de-pleine-lune-online-aout-2024
CATEGORIES:Ceremonie,Développement personnel,Eleonora Quemener,Energétique,Formations,méditation,Meditation
ATTACH;FMTTYPE=image/jpeg:https://www.axe-sens.org/wp-content/uploads/2014/04/576391_563529320331553_686734374_n.jpg
END:VEVENT
END:VCALENDAR