BEGIN:VCALENDAR
VERSION:2.0
PRODID:-//Axe &amp; Sens - ECPv6.8.1//NONSGML v1.0//EN
CALSCALE:GREGORIAN
METHOD:PUBLISH
X-ORIGINAL-URL:https://www.axe-sens.org
X-WR-CALDESC:Évènements pour Axe &amp; Sens
REFRESH-INTERVAL;VALUE=DURATION:PT1H
X-Robots-Tag:noindex
X-PUBLISHED-TTL:PT1H
BEGIN:VTIMEZONE
TZID:Europe/Paris
BEGIN:DAYLIGHT
TZOFFSETFROM:+0100
TZOFFSETTO:+0200
TZNAME:CEST
DTSTART:20230326T010000
END:DAYLIGHT
BEGIN:STANDARD
TZOFFSETFROM:+0200
TZOFFSETTO:+0100
TZNAME:CET
DTSTART:20231029T010000
END:STANDARD
END:VTIMEZONE
BEGIN:VEVENT
DTSTART;TZID=Europe/Paris:20230713T200000
DTEND;TZID=Europe/Paris:20230713T220000
DTSTAMP:20260424T070605
CREATED:20230704T143720Z
LAST-MODIFIED:20230705T164622Z
UID:10000508-1689278400-1689285600@www.axe-sens.org
SUMMARY:Conférence et méditation guidée. Bruxelles
DESCRIPTION:Qu’est ce que la déprgrammation cellulaire ?\n \nPar Eléonora Quemener\nCentre Résonances \n Rue Jean Robie\, 35\n1060 Bruxelles \nDe 20h00 à 22h00 \nLors de cette soirée Eléonora Quemener\, Psychothérapeute\, praticienne en énergétique chinoise\, homéopathe\, naturopathe et chaman depuis plus de 20 ans\, vous emmènera au gré de ses expériences vécues aux 4 coins de globe dans l’explication du fonctionnement “quantique” de notre structure humaine. \nNotre corps physique et nos enveloppes subtiles interagissent en permanence avec les différents “stimuli” extérieurs. Nos cellules engramment  des “programmes dits “limitants” liés à nos experiences de vie. Si ces programmes cellulaires ne sont pas dégagés\, ils deviennent le creuset de toutes maladies. \nNous verrons comment certains programmes\, passent de vies en vies dans notre structure d’incarnation par le biais de l’âme. \nQuel est l’impact du transgenerationnel ? Du Karmique ? Quels sont les programmes qui ne peuvent pas être touchés et pourquoi ? Comment procède-t-on ? \nAprès le débat Eléonora vous emmènera dans une méditation guidée afin de goûter aux énergies «  lumières » avec lesquelles elle travaille. Nous expérimenterons ensemble une reprogrammation cellulaire. \nEléonora vous recevra en consultation privée à  Bruxelles le vendredi 14 juillet et le lundi 17 juillet 2023. Elle propose également une initiation sur les 5 éléments. \nRéservation WhatsApp : 0033 616576199 \nConférence – Méditation guidée et soin collectif : 25 €
URL:https://www.axe-sens.org/rendez-vous/soiree-conference-et-meditation-guidee
LOCATION:Espace Résonances
CATEGORIES:Ateliers,conference,Eleonora Quemener,Energétique,Formations,Méditations,Séminaires,Stages,Thérapie
ATTACH;FMTTYPE=image/jpeg:https://www.axe-sens.org/wp-content/uploads/2017/03/ob_540651_13006685-891514944294820-8826527683901-e1490103665535.jpg
END:VEVENT
END:VCALENDAR