BEGIN:VCALENDAR
VERSION:2.0
PRODID:-//Axe &amp; Sens - ECPv6.8.1//NONSGML v1.0//EN
CALSCALE:GREGORIAN
METHOD:PUBLISH
X-ORIGINAL-URL:https://www.axe-sens.org
X-WR-CALDESC:Évènements pour Axe &amp; Sens
REFRESH-INTERVAL;VALUE=DURATION:PT1H
X-Robots-Tag:noindex
X-PUBLISHED-TTL:PT1H
BEGIN:VTIMEZONE
TZID:Europe/Paris
BEGIN:DAYLIGHT
TZOFFSETFROM:+0100
TZOFFSETTO:+0200
TZNAME:CEST
DTSTART:20250330T010000
END:DAYLIGHT
BEGIN:STANDARD
TZOFFSETFROM:+0200
TZOFFSETTO:+0100
TZNAME:CET
DTSTART:20251026T010000
END:STANDARD
END:VTIMEZONE
BEGIN:VEVENT
DTSTART;TZID=Europe/Paris:20250914T140000
DTEND;TZID=Europe/Paris:20250914T183000
DTSTAMP:20260422T083739
CREATED:20250912T103745Z
LAST-MODIFIED:20250912T104401Z
UID:10000656-1757858400-1757874600@www.axe-sens.org
SUMMARY:Une après midi pour un  " reset " total
DESCRIPTION:Atelier holistique de nettoyages énergétiques\, de recentrage et de reconnexion. \nLe dimanche 14 septembre 2025\nDe 14h00 à 18 H30 \nMarseille /Santa Cruz \n  \nEn ce début de septembre intense au niveau vibratoire et émotionnel\, nous vivons encore de nombreuses fluctuations énergétiques.\nJusqu’ à la nouvelle lune du 22 septembre\, quelques bouleversements subtils sont encore à prévoir.\nEleonora vous accueille pour un atelier de remise à niveau\, d’équilibrage énergétique et de re-connexion. \nLors de cette après-midi riche en partages\, nous ouvrirons l’atelier par une cérémonie chamanique d’ouverture un 7 directions et de nettoyage autour du feu ; au rythme des tambours. \nNous réveillerons notre corps et nos cellules afin de réactiver pleinement les méridiens et les différents courants énergétiques de notre corps. \nNous travaillerons à revoir notre ancrage et notre alignement. \nPuis Eleonora vous proposera de vous accompagner en binôme\, dans différents process de nettoyages énergétiques. \nEn méditation guidée elle vous permettra de vous réaligner de vous recentrer et de vous reconnecter. \nNous clôturerons la séance par un voyage sonore collectif. \nUne après-midi pour vous honorer\, vous faire du bien et retrouver votre force en énergies positives. \nTarif : 50 € \nRéservations : 06 16 57 61 99
URL:https://www.axe-sens.org/rendez-vous/une-apres-midi-pour-un-reset-total
LOCATION:Domaine de TerreSainte\, 46 boulevard Notre Dame de Santa Cruz\, Marseille\, 13014\, France
CATEGORIES:Ceremonie,Ceremonie sacrée,Chamaniqme,Eleonora Quemener,énergétique,Formation,Formations,Meditation,méditation,Séminaires,Soin,Soins énergétiques,Spiritualité,Stages,Travail sur soi
ATTACH;FMTTYPE=image/jpeg:https://www.axe-sens.org/wp-content/uploads/2025/09/vitalite-profitez1-1200x640-1-e1757673819518.jpg
END:VEVENT
BEGIN:VEVENT
DTSTART;TZID=Europe/Paris:20250919T093000
DTEND;TZID=Europe/Paris:20251214T170000
DTSTAMP:20260422T083739
CREATED:20250724T170928Z
LAST-MODIFIED:20250901T102525Z
UID:10000654-1758274200-1765731600@www.axe-sens.org
SUMMARY:Formation certifiante en constellations familiales
DESCRIPTION:Formation certifiante en constellations familiales \nA Marseille avec Moghan Mehlem \nProchaine session 2025  \nDurée 4 mois\n4 modules de 3 jours\n3 visioconférences de suivi \nCertification a la fin de 4 -ème module.   \nMoghan a eu un parcours riche et éclectique aux 4 coins du globe. Professeur de yoga Ashtanga\, formé à Pondichéry dans les années 70 ‘ 80 ‘\, comédien et art-thérapeute à Paris et en France\, formé en décodage biologique par le Dr Hamer et Christian Flèche dans les années 90’\, Hypnothérapeute et coach\, diplômé en PNL\, Moghan se forme avec Bert Hellinger le fondateur des constellations familiales et Lienpsy de Gérard et Samia Fossat pendant plusieurs années. Il fonde Aurosystemica en 2010. Cette école de constellation familiale et systémique basée à  Auroville ( Inde du Sud) à formé des centaines de praticiens en Inde et travers le monde. \nUne constellation c’est quoi ? \nLe travail de constellation s’effectue en groupe d’une dizaine de personnes. Elle a pour objectif de mettre en lumière «  des programmes limitants » et de les faire évoluer positivement. \nLors d’une journée de constellation\, 5 à 6 personnes feront leur constellation personnelle. Le reste du groupe présent\, sensiblement impliqué pourra être choisit pour représenter soit un membre de la famille\, soit une émotion\, un mot clef\, une valeur… Les représentants sont également impliqués dans un travail personnel qui peut générer des remontés sensibles\, et souvent inconscientes d’où l’importance de pouvoir participer en tant que représentant. \nUne constellation dure entre 35 à 45 minutes. Notre journée sera ponctuée par 5 constellations et pour chacune suivie d’un travail sur les résonnances. \nDevenez facilitateur en constellations familiales  \nLieu de formation : Axe et Sens- Marseille 14 eme\ninscription ouverte\, places limitées. \nPlannings  de cours :  \nModule 1 :  19- 20 -21 septembre 2025\nModule 2 : 17-18-19 octobre 2025\nModule 3 : 07-08-09 novembre 2025\nModule 4 : 12-13-14 décembre 2025   \nTarifs :  \nEarly bird avant le 15 aout 1000 €  \nDate limite des inscriptions le 03 Sept : 1200 € \n(Payable en plusieurs fois) \n  \nInfos :\nEleonora : 06 16 57 61 99\ncontacr@axe-sens.org
URL:https://www.axe-sens.org/rendez-vous/formation-certifiante-en-constellations-familiales
LOCATION:A xe et Sens\, Marseille
CATEGORIES:Ateliers,Constellation familiale,Cours,Développement personnel,Formations,Séminaires
ATTACH;FMTTYPE=image/png:https://www.axe-sens.org/wp-content/uploads/2024/11/Capture-decran-2024-11-15-a-13.18.30.png
END:VEVENT
END:VCALENDAR